BEGIN:VCALENDAR
VERSION:2.0
PRODID:-//wp-events-plugin.com//7.2.3.1//EN
TZID:America/New_York
X-WR-TIMEZONE:America/New_York
BEGIN:VEVENT
UID:193@fpbuu.org
DTSTART;TZID=America/New_York:20260215T140000
DTEND;TZID=America/New_York:20260215T150000
DTSTAMP:20260130T071109Z
URL:https://fpbuu.org/events/organ-concert-celebrating-fpbuu-325-years/
SUMMARY:Concert Celebrating FPBUU's Historic Organ
DESCRIPTION:Prominent Cape Cod Organists to Perform\nThis event has been po
 stponed due to inclement weather. The date is now February 15.\n\nAs part 
 of a year-long celebration of the 325th anniversary of the founding of Fir
 st Parish Brewster\, four prominent organists from around Cape Cod will pe
 rform in a concert at FPBUU on Sunday\, February 15\, at 2:00 PM.\nJoin us
  for a once in a lifetime opportunity to hear our 1861 Holbrook organ\, th
 e last to exist in its original state\, as played by four exceptional Cape
  Cod organists/musicians. Throughout its long history\, this remarkable in
 strument has impressed experts and delighted generations of parishioners w
 ith its rich\, sweet tone. The concert will feature a diverse selection of
  pieces from the last three centuries in celebration of First Parish Brews
 ter’s 325 years as a congregation.\nSuggested donation: $20 at the door.
 \nOur distinguished performers:\n\n\n 	Deborah Gemma\, Music Director and 
 Organist at St. Barnabas's Memorial Episcopal Church\, Falmouth\n 	Marcia 
 Hempel\, Music Director and Organist\, First Congregational Church of Harw
 ich UCC\n 	Richard Busch\, choral director\, composer\, 40+ years’ exper
 ience as an organist\n 	Jeff Cutts\, Minister of Music\, The Church of the
  Messiah\, Woods Hole\n\nFirst Parish Brewster member Neil Bartholomew wil
 l provide short unaccompanied oboe solos as a transition between the organ
  performances.\n\nMore information about the organists and musical selecti
 ons:\nDeborah Gemma is the Director of Music at Saint Barnabas's Memorial 
 Episcopal Church in Falmouth\, where she plays the church's 1892 Hutchings
  tracker organ and directs the choir. Educated at The Hartt School of Musi
 c/University of Hartford and the Yale School of Music/Institute of Sacred 
 Music\, she has served churches in Connecticut and Massachusetts for over 
 45 years. Deb is a Past Dean of both the Greater Hartford and the Cape Cod
  and the Islands chapters of the American Guild of Organists. Deb was born
  and raised in Millis\, MA\, formerly known as East Medway\, home of organ
  builder Edwin L. Holbrook\, who built our organ. \n\nMarcia Hempel  has
  been Music Director and Organist at First Congregational Church\, UCC\, i
 n Harwich Center\, since 2012. Before that she lived on Nantucket and was 
 the choir director and organist at the UU church there for many years. She
  started the Harwich Women's Chorus in 2013. It has 16 members and perform
 s folk styles and jazz. The pieces she is playing for this program are mos
 tly Nantucket themed: Barbara Elder is an island conductor and composer\; 
 Carson Cooman is a summer resident who is a widely recognized composer and
  is organist at Harvard\; "Benefactor" is a piece that Marcia wrote for th
 e memorial service of Ted Anderson\, who was minister at the UU Church on 
 Nantucket for 20 years\; Michael Schütz is a contemporary German composer
 \, known for blending classical organ with contemporary styles.\n\nRichard
  Busch is a composer\, pianist\, choral conductor\, and teacher. He is a g
 raduate of the Juilliard School of Music\, and has been a recipient of fel
 lowship grants from the Massachusetts Artists’ Foundation\, the National
  Endowment for the Arts\, and the Guggenheim Foundation. His music has bee
 n performed by the Indianapolis Symphony\, St. Paul Chamber Orchestra\, Bo
 ston’s Collage\, the Meridian Quartet\, I Cantori di New York\, and many
  community choruses and church choirs\, including that of the Church of th
 e Ascension in New York City. A long-time resident of Cape Cod\, Massachus
 etts\, Mr. Busch served for fifteen years as organist and choirmaster at S
 t. Mary of the Harbour Episcopal Church in Provincetown\, for three years 
 at the Federated Church in Orleans\, and for eleven years at St. Paul’s 
 Episcopal Church in Nantucket. From 2004 to 2009 Mr. Busch held the positi
 on of Organist and Choirmaster at St. John’s Episcopal Church in Washing
 ton\, CT. He returned to Cape Cod in 2009 and served from then until 2011 
 as Director of Music at Christ Church\, Harwichport. Along with vocalist A
 nn Martindale\, Richard has performed\, as both singer and pianist\, a rep
 ertoire of classic American songs and jazz standards in venues throughout 
 Cape Cod\, Nantucket\, and southwest Florida\, as well as several engageme
 nts at the Metropolitan Room in NYC.\n\nJeffrey Cutts is currently serving
  as Minister of Music at Church of the Messiah in Woods Hole\, where he ha
 s been serving since November of 2025. Prior to his appointment at CoM\, J
 effrey served for seven years as Minister of Music at the First Congregati
 onal Church of Nantucket\, where he established a summer concert series\, 
 Concerts on the Hill\, founded the Nantucket Summer Festival Choir\, a com
 munity chorus for summer and year-round residents\, and participated in th
 e island's annual Organ Crawl\, celebrating the history of Nantucket's his
 toric organs. He has written several compositions and arrangements for org
 an\, including his Outkast Suite\, which will be partially featured on tod
 ay's program. Cutts is also an avid composer of choral music\, premiering 
 his first major work\, Memoria\, with the Nantucket Summer Festival Choir 
 in August of 2025. He holds a Master of Music degree in sacred music and c
 onducting from Westminster Choir College in Princeton\, NJ and a Bachelor 
 of Music in voice performance from Vanderbilt University in Nashville\, TN
 .\n\n&nbsp\;
END:VEVENT
BEGIN:VTIMEZONE
TZID:America/New_York
X-LIC-LOCATION:America/New_York
BEGIN:STANDARD
DTSTART:20251102T010000
TZOFFSETFROM:-0400
TZOFFSETTO:-0500
TZNAME:EST
END:STANDARD
END:VTIMEZONE
END:VCALENDAR